


BEGIN:VCALENDAR
VERSION:2.0
PRODID:-//Museozoom.be v2016//EN
BEGIN:VEVENT
STATUS:CONFIRMED
DTSTART:19700101
DTEND:19700101
SUMMARY:Stage au DELTA - août
DESCRIPTION:ClowneriesBouffons farceurs, petits pantins, grandes chaussures et nez rouges font vibrer et s’illuminer le Delta de leurs 1001 clowneries !Clown triste ou joyeux.se, prends la pose, tire ton portait, décompose-le et réinvente-le : mille personnalités en découleront. Autant de surprises, de suspense et de tranches de rire qui t’attendent durant cette folle semaine !En bonus, 2 après-midis sont réservées à une initiation aux jeux clownesques afin de te familiariser avec divers objets tels que les assiettes chinoises, diabolos, balles, etc. Gare à la casse !Date : du 22 au 26/08/2022Horaire : 9h &#8211; 16hTarifs : 60 €Réservation obligatoire : https://www.ledelta.be/evenements/clowneries/De 5 à 8 ans
LOCATION:18, avenue Golenvaux,5000 - Namur
END:VEVENT
END:VCALENDAR