


BEGIN:VCALENDAR
VERSION:2.0
PRODID:-//Museozoom.be v2016//EN
BEGIN:VEVENT
STATUS:CONFIRMED
DTSTART:19700101
DTEND:19700101
SUMMARY:Stage au Musée du Verre
DESCRIPTION:Crée au musée !Au menu de cette semaine de stage estival, un bon mix de nature et de création artistique !Au programme : découverte de la végétation environnante, des ateliers artistiques, de la création de cyanotypes et d’ecoprint, de la décoration sur verre, ainsi que de l’origami. Le tout sur thème de la nature.Avec les Ateliers de l’Escargot, Valérie Pierart (Province de Hainaut) et Le Lotus rouge.Semaine du 25 juillet 2022, du lundi au vendredi, de 9h à 16h.Prix : 55€ la semaine (comprend l’entrée sur le site).Prévoir un pique-nique ainsi qu’une tenue pouvant être salie.Réservations : museesmediation@charleroi.be &#8211; 071/86 11 35Paiement : sur le compte de l’ASBL Les Amis des Musées de Charleroi, Place Charles II, 6000 Charleroi BE95 3600 4090 0458 (en communication STAGE MDV + NOM ET PRENOM de l’enfant)
LOCATION:Site du Bois du Cazier, rue du Cazier 80  6001 Marcinelle
END:VEVENT
END:VCALENDAR