


BEGIN:VCALENDAR
VERSION:2.0
PRODID:-//Museozoom.be v2016//EN
BEGIN:VEVENT
STATUS:CONFIRMED
DTSTART:19700101
DTEND:19700101
SUMMARY:Stage au Musée Félicien Rops - août
DESCRIPTION:Théâtre et jeux d’acteur.rice.sLe musée Rops, en collaboration avec l’asbl AtArt, a étroitement conçu une semaine de stage placée sous le signe de la découverte de l’exposition The Circus We Are ! Imagine-toi te balader dans le musée et démarrer un jeu d’acteur au départ des œuvres afin d’exprimer, expérimenter et découvrir une palette d’émotions.11 à 14 ansDu 22 au 26 août 2022, de 9h à 16hTarif : 95€ max. 12 participantsInfos + réservation (obligatoire) : http://www.atart.beEn marge de l&rsquo;exposition temporaire, l&rsquo;asbl Le Tamanoir prendra ses quartiers au musée Rops pour animer un stage arts plastiques. L’objet de l’ASBL est de favoriser autant la transmission et la médiation culturelle que la créativité et l’imaginaire à travers des stages, des ateliers et toute autre activité culturelle ou de découverte. Il s’agit de s’adresser à un public le plus large possible, avec entre autres une attention particulière envers les enfants et les adolescents pour permettre à chacun de disposer d’outils créatifs pour penser et créer une société en transition.
LOCATION:Rue Fumal 125000 Namur
END:VEVENT
END:VCALENDAR