


BEGIN:VCALENDAR
VERSION:2.0
PRODID:-//Museozoom.be v2016//EN
BEGIN:VEVENT
STATUS:CONFIRMED
DTSTART:19700101
DTEND:19700101
SUMMARY:Fête du 21 juillet au Grand-Hornu
DESCRIPTION:Le CID et le MACS vous convient à une journée entièrement gratuite !— 11h : Visite guidée du site historique du Grand-Hornu.— 11h : Atelier potion magique. Sorcier ou sorcière, réalise ta préparation à base de plantes après avoir découvert, en famille, les expositions Gaillard &amp; Claude. A Certain Decade et Aline Bouvy.Cruising Bye.— 12h : Concert Vincent Descamps &amp; Friends (jazzy lounge).— 14h : Visite guidée des expositions Gaillard &amp; Claude. A Certain Decade et Aline Bouvy. Cruising Bye.— 14h : Atelier : L’Orient, univers magique rempli d’imaginaire !Viens réaliser ta propre lanterne aux motifs orientaux et fais un vœu. Qui sait ? Tu apercevras peut-être un génie! (visite de l’exposition Beyrouth. Les temps du design + atelier).— 14-16h : Ateliers en open-space : « À la découverte du backgammon, une tradition libanaise », « Démonstration de crossage et jeux anciens » et « Création de lanternes orientales en papier ».— 14-17h : Jeu de piste « Sorciers et sorcières au Grand-Hornu ».— 15h30 : Visite guidée de l’exposition Beyrouth. Les temps du design.— 16h : Concert classique.— 18h : Concert Aretha Franklin Tribute (reprise de grands tubes pop/jazz).— 20h : DJ KRS— De 10 à 20h : Jeux d’extérieur, châteaux gonflables.DE 10H00 À 22H30PETITE RESTAURATION : BBQ/HAMBURGERS/FRITES.ENTRÉES ET ACTIVITÉS GRATUITES (SAUF RESTAURATION ET BOISSONS)Infos : +32 (0)65 613 902 / reservations@grand-hornu.be
LOCATION:Rue Sainte-Louise, 827301 Hornu
END:VEVENT
END:VCALENDAR