


BEGIN:VCALENDAR
VERSION:2.0
PRODID:-//Museozoom.be v2016//EN
BEGIN:VEVENT
STATUS:CONFIRMED
DTSTART:20220701
DTEND:20221002
SUMMARY:Escale au Musée de l'Armée
DESCRIPTION:Voilà l&rsquo;été, la période des vacances bien méritées ! Pas besoin de partir très loin pour s&rsquo;offrir un peu de dépaysement : le Musée de l&rsquo;Armée et ses collections internationales feront voyager petits et grands autour du monde.Pas besoin de lourdes valises, notre nouveau livret de jeu (distribué gratuitement au comptoir d&rsquo;accueil) et un crayon suffisent pour cette aventure à travers 10 siècle d&rsquo;histoire. Embarquement immédiat !Disponible en FR et en NL !Durée : 1:30-2:00Jeu parcours gratuit (inclus dans le prix d&rsquo;entrée au Musée), livret à demander au comptoir d&rsquo;accueil, se munir d&rsquo;un crayon.Pas de réservationÂge : à partir de 7 ans. Le parcours fait appel à la lecture et à l&rsquo;écriture mais les parents peuvent apporter un peu d&rsquo;aide aux plus jeunes. Le parcours est aussi un chouette moyen de découvrir le musée pour les adolescents et les adultes.
LOCATION:Parc du Cinquantenaire, 3 - 1000 Bruxelles
END:VEVENT
END:VCALENDAR