


BEGIN:VCALENDAR
VERSION:2.0
PRODID:-//Museozoom.be v2016//EN
BEGIN:VEVENT
STATUS:CONFIRMED
DTSTART:19700101
DTEND:19700101
SUMMARY:Exposition ""ÉGYPTE. ÉTERNELLE PASSION"
DESCRIPTION:Depuis 2.000 ans, l’Égypte passionne ! Mais pourquoi ? La nouvelle exposition du Domaine et Musée royal de Mariemont explore la fascination exercée par l’Égypte ancienne sur l’imaginaire occidental. Le visiteur n’y trouvera donc pas des antiquités égyptiennes, mais des œuvres de diverses époques qui reflètent les fantasmes générés par la terre des Pharaons.© Leo CaillardInformations pratiques
LOCATION:Chaussée de Mariemont, 1007140 Morlanwelz
END:VEVENT
END:VCALENDAR