


BEGIN:VCALENDAR
VERSION:2.0
PRODID:-//Museozoom.be v2016//EN
BEGIN:VEVENT
STATUS:CONFIRMED
DTSTART:20220909
DTEND:20230305
SUMMARY:Exposition "Spiegelbild Kelmis. Facettes d'un territoire"
DESCRIPTION:Le Musée Vieille Montagne à La Calamine vous propose, en collaboration avec Filippo Ciriani, un jeune artiste de La Haye (NL), une exposition sur le thème « Spiegelbild Kelmis &#8211; Facettes d&rsquo;un territoire ». Ciriani avait réalisé en 2019 à La Calamine le projet photographique « Silent Canary ».L&rsquo;exposition est centrée sur les thèmes du territoire et de la communauté. Elle associe le projet Silent Canary de Filippo Maria Ciriani et une collection croissante d&rsquo;objets qui reflètent la relation personnelle qu’entretiennent les citoyens de La Calamine avec leur territoire. Les objets sont collectés dans le cadre d&rsquo;un appel public qui se poursuivra jusqu&rsquo;en mars 2023.Filippo Maria Ciriani (1993) est un photographe engagé dans des projets documentaires à long terme. Il est diplômé de l&rsquo;Académie royale des arts (KABK) de La Haye, où il vit actuellement.Son projet Silent Canary (2019) explore les implications sociales de l&rsquo;extraction des ressources. Au 19e siècle, une compagnie minière a façonné le paysage et la communauté de La Calamine selon ses besoins. Aujourd’hui, alors que les richesses du sous-sol éveillent un intérêt renouvelé, Ciriani entremêle recherche de traces et portraits de membres de la communauté locale, exposant les figures humaines à la merci de forces motivées par le profit.Informations pratiques
LOCATION:Chaussée de Liège 2784720 LA CALAMINE	
END:VEVENT
END:VCALENDAR