


BEGIN:VCALENDAR
VERSION:2.0
PRODID:-//Museozoom.be v2016//EN
BEGIN:VEVENT
STATUS:CONFIRMED
DTSTART:20220910
DTEND:19700101
SUMMARY:Exposition "Opération Anthropoid"
DESCRIPTION:L&rsquo;exposition temporaire Opération Anthropoid relate l&rsquo;histoire de l&rsquo;attentat contre un haut dignitaire nazi Reinhard Heidrich, le 27 mai 1942. Elle revient d&rsquo;abord sur l&rsquo;organisation de l&rsquo;opération par les parachutistes tchèques sous le commandement du gouvernement tchéchoslovaque en exil à Londres.L&rsquo;exposition évoque également les sanctions allemandes à l&rsquo;encontre de la population civile. Les représailles se sont particulièrement manifestées à travers le massacre de Lidice.Cette exposition fut réalisée par le Musée des Légions tchécoslovaques à Prague. Elle est présentée dans diverses localités en Belgique grâce au concours de l&rsquo;ambassade tchèque à Bruxelles à l&rsquo;occasion du 80° anniversaire de l&rsquo;opération « Anthropoid » et la présidence du Conseil de l&rsquo;Union européenne par la République Tchèque du 1er juillet 2022 au 31 décembre 2022.L&rsquo;expo sera accessible gratuitement jusque fin août 2023 au Bastogne War Museum.Informations pratiques
LOCATION:Colline du Mardasson 56600 Bastogne
END:VEVENT
END:VCALENDAR