


BEGIN:VCALENDAR
VERSION:2.0
PRODID:-//Museozoom.be v2016//EN
BEGIN:VEVENT
STATUS:CONFIRMED
DTSTART:20221008
DTEND:20230108
SUMMARY:Exposition "Le Voyageur et son ombre"
DESCRIPTION:Les collections du BAM vues par Xavier Noiret-Thomé.Pour prolonger la découverte, le BAM donne carte blanche à un artiste contemporain, Xavier Noiret-Thomé. En écho au parcours d’expo, le plasticien réveille en poésie les collections emblématiques du BAM de la seconde moitié du 20e siècle &#8211; Fontana, Delahaut, Alechinsky, Asger Jorn, Peter Saul et bien d’autres – et les met en dialogue avec ses œuvres personnelles, complétant ainsi à sa manière la réflexion de Miró sur l’art et ses racines.Informations pratiques
LOCATION:Rue Neuve 87000 Mons
END:VEVENT
END:VCALENDAR