


BEGIN:VCALENDAR
VERSION:2.0
PRODID:-//Museozoom.be v2016//EN
BEGIN:VEVENT
STATUS:CONFIRMED
DTSTART:20220508
DTEND:19700101
SUMMARY:Exposition "Forme I Bois"
DESCRIPTION:Le dialogue, entre les œuvres et la nature, associé au travail du bois en tant que matériau porteur sont le point de départ de ce projet qui regroupe 6 artistes sensibles à l’environnement. Les œuvres ou les implantations réalisées, in situ, interviennent directement avec la structure architecturale et végétale qui caractérise le Domaine de Seneffe. Land art, figuration, abstraction, détournement et récupération de matières premières offrent, aux visiteurs, la possibilité de s’interroger sur le rapport que notre société entretien avec l’environnement …Artistes participants : C.Baas, E. Boutry, E.Briat , M.Dessardo, C.Griffon du Bellay et Monsieur Plant.Exposition de plein air dans le Parc du Domaine de Seneffe &#8211; Accès gratuitHoraires parc: d’avril à septembre : tous les jours de 8 à 20h. D’octobre à mars : tous les jours de 8 à 18H
LOCATION:Rue Lucien Plasman, 7-97180 Seneffe
END:VEVENT
END:VCALENDAR