


BEGIN:VCALENDAR
VERSION:2.0
PRODID:-//Museozoom.be v2016//EN
BEGIN:VEVENT
STATUS:CONFIRMED
DTSTART:20221011
DTEND:20230108
SUMMARY:Exposition "Johan Tahon. ÉTREINTE"
DESCRIPTION:Johan Tahon est né à Menin/Menen en 1965 et travaille à Audenarde (Belgique).Il a étudié la sculpture à l&rsquo;Académie Royale des Beaux-Arts de Gand et a longtemps été considéré comme l&rsquo;un des artistes belges les plus importants de sa génération.Il n&rsquo;est pas étranger à l&rsquo;IKOB &#8211; Musée d&rsquo;Art Contemporain, car il a déjà exposé avec Ronny Delrue à Eupen en 2007 et a ensuite été présenté encore et encore dans des expositions de collection. Le point de départ de son récent retour à Eupen a été une conversation dans laquelle il a ouvertement avoué qu&rsquo;il aimerait réviser l&rsquo;œuvre « Xanax » (2006), qui fait maintenant partie de la collection IKOB depuis 16 ans. À partir de là, le projet d&rsquo;exposition «Hugging» s&rsquo;est développé, ce qui a soulevé de nombreuses questions urgentes sur l&rsquo;art, sa conservation, l&rsquo;auteur associé: droits intérieurs et la tâche des musées en général.Avec l&rsquo;artiste, nous avons décidé de lui permettre de réviser son travail. Pour de nombreux observateurs du monde de l&rsquo;art, cela pourrait représenter une nouveauté, pour d&rsquo;autres même un sacrilège, puisque les musées doivent généralement défendre leurs œuvres contre la modification, l&rsquo;endommagement et le changement &#8211; si nécessaire contre l&rsquo;intention de l&rsquo;artiste lui-même. nous sommes convaincus qu&rsquo;en tant que musée, nous devons nous demander si la position que le musée occupe depuis plus de cent ans est encore justifiable aujourd&rsquo;hui, ou si une nouvelle coopération entre les musées et les artistes est encore nécessaire doit être définie plus précisément ? L&rsquo;œuvre modifiée de Tahon est ainsi au centre de l&rsquo;exposition « Hug » et marque le début d&rsquo;une conversation inédite entre artistes : intérieur et musées; de changer leurs œuvres.L&rsquo;œuvre nouvellement révisée est flanquée de nouvelles œuvres de l&rsquo;artiste et de quelques œuvres plus anciennes de la collection IKOB. L&rsquo;objectif est de montrer son travail dans le contexte d&rsquo;œuvres plus anciennes afin de montrer de nouveaux développements et des intérêts plus anciens et de présenter le lien étroit entre IKOB et Johan Tahon pour ce qu&rsquo;il est &#8211; une étreinte &#8211; exprimé à travers un dialogue de confiance sur les possibilités de une approche sensible du musée avec les oeuvres d&rsquo;art et leurs auteurs.Informations pratiques
LOCATION:Rotenberg 12b4700 Eupen
END:VEVENT
END:VCALENDAR