


BEGIN:VCALENDAR
VERSION:2.0
PRODID:-//Museozoom.be v2016//EN
BEGIN:VEVENT
STATUS:CONFIRMED
DTSTART:20221011
DTEND:20230108
SUMMARY:Exposition "Redessiner les Lignes"
DESCRIPTION:Avec: Matei Bejenaru, Irina Botea Bucan et Dani GhercaL&rsquo;exposition « Redessiner les lignes » présente des œuvres d&rsquo;artistes roumains : Matei Bejenaru, Irina Botea Bucan et Dani Ghercă, qui explorent l&rsquo;histoire récente de leur patrie tout en abordant des questions sociétales globales et incessantes. Les frontières géopolitiques, le nationalisme, l&rsquo;économie, les inégalités, l&rsquo;individuel et le collectif, l&rsquo;immigration, la périphérie et les rapports de force sont quelques-uns des thèmes traités dans l&rsquo;exposition collective avec des approches humoristiques et critiques. Alors que les questions soulevées par les artistes abordent les complexités du post-communisme en Roumanie, l&rsquo;exposition invite le public à de regarder les œuvres dans leur universalité et de les reconsidérer dans le contexte des événements mondiaux actuels tels que la guerre en Ukraine et la montée de l&rsquo;idéologie d&rsquo;extrême droite dans de nombreuses régions du monde. « Redrawing the Lines » est organisée par Daniella Géo et organisée en collaboration avec SwitchLab, Bucarest.Le projet est cofinancé par l&rsquo;administration roumaine du Fonds culturel national.Le projet ne reflète pas nécessairement la position de l&rsquo;administration du Fonds culturel national. L&rsquo;AFCN n&rsquo;est pas responsable du contenu du projet ou de la manière dont les résultats du projet peuvent être utilisés. Ceci est de la seule responsabilité du bénéficiaire de la subvention.© Matei Bejenaru, Enlarged Clothing (2005), vue d&rsquo;exposition Museum of Contemporary Art Belgrade, courtoisie de l&rsquo;artisteInformations pratiques
LOCATION:Rotenberg 12b4700 Eupen
END:VEVENT
END:VCALENDAR