


BEGIN:VCALENDAR
VERSION:2.0
PRODID:-//Museozoom.be v2016//EN
BEGIN:VEVENT
STATUS:CONFIRMED
DTSTART:20221008
DTEND:19700101
SUMMARY:Exposition "Environs d'Arlon. Vues de nos villages"
DESCRIPTION:Une exposition consacrée aux villages d&rsquo;Arlon et à leur patrimoine au travers d&rsquo;une riche collection de cartes postales anciennes.Informations pratiques
LOCATION:Rue des Martyrs 166700 Arlon
END:VEVENT
END:VCALENDAR