


BEGIN:VCALENDAR
VERSION:2.0
PRODID:-//Museozoom.be v2016//EN
BEGIN:VEVENT
STATUS:CONFIRMED
DTSTART:19700101
DTEND:20230305
SUMMARY:Exposition "Marc Sleen 100. Néron 75. Un siècle en mouvement."
DESCRIPTION:Marc Sleen a dessiné 217 albums de Néron. Autant d’albums d’une même série, c’est tout simplement un record du monde, consacré par le Guinness World Records Book. Sleen a aussi été anobli par le roi. Mais son œuvre et sa carrière sont aussi le reflet précieux d’une époque. Le temps passe, le temps pousse et parfois repousse. Pour son centième anniversaire, nous confrontons l’œuvre de Sleen et l’univers qu’il a créé avec le monde de maintenant, avec ce qui a changé, évolué. Les images d’hier heurtent parfois les valeurs d’aujourd’hui.Commissaires : Noël Slangen, Yves Kerremans avec Christophe Deborsu &amp; Barly BarutiUne exposition de la Fondation Marc Sleen.Avec le soutien de la Région de Bruxelles-CapitaleInformations pratiques
LOCATION:Rue des Sables 20, 1000 Bruxelles
END:VEVENT
END:VCALENDAR