


BEGIN:VCALENDAR
VERSION:2.0
PRODID:-//Museozoom.be v2016//EN
BEGIN:VEVENT
STATUS:CONFIRMED
DTSTART:19700101
DTEND:19700101
SUMMARY:Exposition "Carrément Poilu"
DESCRIPTION:Chaque matin, Petit Poilu s&rsquo;éveille, passe d&rsquo;urgence à la toilette où le WC est trop grand pour lui. Puis il avale son petit déjeuner, fait la bise à sa maman et s&rsquo;en va gaillardement sur le chemin de l&rsquo;école. De l&rsquo;école ? Rien n&rsquo;est moins sûr, car l&rsquo;aventure l&rsquo;attend au coin de la rue.Cette trame immuable, déclinée dans des variantes chaque fois différentes, est l&rsquo;invention du dessinateur Pierre Bailly et de la scénariste Céline Fraipont qui ont créé une BD entièrement muette et accessible dès l&rsquo;âge de 3 ans.Haute en couleurs, cette exposition ludique propose aux plus jeunes de grimper, sauter, ramper et plonger de case en case, en s’immergeant dans des ambiances à chaque fois différentes, comme Petit Poilu lui-même.Commissaire : Sophie BaudryScénographie : la classe DSAA 1 EM de l&rsquo;école Boulle (Paris)Gestion de projet : Stéphane RegnierInformations pratiques
LOCATION:Rue des Sables 20, 1000 Bruxelles
END:VEVENT
END:VCALENDAR