


BEGIN:VCALENDAR
VERSION:2.0
PRODID:-//Museozoom.be v2016//EN
BEGIN:VEVENT
STATUS:CONFIRMED
DTSTART:19700101
DTEND:20230108
SUMMARY:Congés d'hiver au Tre.Ma
DESCRIPTION:Pyjam&rsquo;art PictoresqueC’est quand le musée ferme ses portes et que la nuit s’installe doucement que les enfants comprennent le mieux ce que sont les lithographies et ce qu’elles ont d’intime. Le mystère des sites illustrés, l’esprit du romantisme et du pittoresque leur deviendront évidents lors de la visite nocturne de Pictoresque.La visite sera suivie d’un atelier de création de cartes postales en employant divers procédés d’impression : kitchen-litho, monotype, estampage et collage, frottis,…Un partenariat Société archéologie de Namur, TreM.a – Musée des Arts anciens.Date : 16 décembre 2022Horaire : 18h-20hTarif : gratuitDe 8 à 12 ansInfos et réservations (places limitées) : 081/77.67.54 et musee.arts.anciens@province.namur.beDe l&rsquo;artiste au cuisinier,&#8230; il n&rsquo;y a qu&rsquo;un pas ! À moins que ce ne soit l&rsquo;inverse ?À travers l’exposition temporaire Pictoresque, viens découvrir ce qu’est une lithographie et comment elle permet à l’artiste de sublimer les sites bien connus de notre région. Ensuite, enfile ton tablier et passe… en cuisine !Laisse place à ta créativité et réalise une « kitchen-litho« , c’est-à-dire une œuvre d’art inspirée de ce que tu as vu au sein de l’exposition… mais en utilisant uniquement les ustensiles et produits ménagers que tu trouveras dans la cuisine.Nul doute que de nombreux artistes se révéleront à travers cette activité.Un partenariat Société archéologique de Namur – TreM.a – Musée des Arts anciens.Date : 8 janvier 2022Horaire : de 10h30 à 12hPrix : 2,5 € pour l’activité + ticket d’entrée au musée (gratuit pour les &lt; 12 ans)À partir de 10 ansInfos et réservations (places limitées) : 081/77.67.54 ou musee.arts.anciens@province.namur.be
LOCATION:Rue de Fer 245000 Namur 
END:VEVENT
END:VCALENDAR