


BEGIN:VCALENDAR
VERSION:2.0
PRODID:-//Museozoom.be v2016//EN
BEGIN:VEVENT
STATUS:CONFIRMED
DTSTART:19700101
DTEND:19700101
SUMMARY:Instant famille au Mons Memorial Museum
DESCRIPTION:Et si on jouait aux jeux de société ? Au Mons Memorial Museum, entre amis ou en famille, défie les autres joueurs à des jeux de stratégies (Stratégo, Risk, bataille navale)Date : Du 24 au 29 octobreHoraire : De 10h à 18hTarif : tarif d’entrée au musée : 9€/adulte, 2€ pour les 13-18 ans, gratuit pour les – de 12 ansRéservation obligatoire : en ligne via visitMons.be ou par téléphone au 065/33.55.80&nbsp;
LOCATION:Boulevard Dolez, 517000 Mons
END:VEVENT
END:VCALENDAR