


BEGIN:VCALENDAR
VERSION:2.0
PRODID:-//Museozoom.be v2016//EN
BEGIN:VEVENT
STATUS:CONFIRMED
DTSTART:19700101
DTEND:19700101
SUMMARY:Exposition "Willy Anthoons. L'esprit de la matière"
DESCRIPTION:Contemporain d’Idel Ianchelevici, avec lequel il expose au salon Tendances contemporaines à La Louvière, Willy Anthoons (1911-1982) est un artiste capital de l’avant-garde belge. Cofondateur de la Jeune Peinture belge, au sein de laquelle il est le seul représentant de la sculpture, proche de Michel Seuphor ou d’Ossip Zadkine, Willy Anthoons ne provoque aujourd’hui qu’un faible écho auprès du public. Artiste remarquable par la constance de sa recherche, la force de son langage et la cohérence de son œuvre aux multiples facettes, Anthoons tire parti du dépassement des règles et conventions de l’abstraction de l’époque pour traduire un lyrisme très personnel, empreint d’universalité et de mysticisme. Lire plus&#8230;Informations pratiques
LOCATION:Place communale 217100 La Louvière
END:VEVENT
END:VCALENDAR