


BEGIN:VCALENDAR
VERSION:2.0
PRODID:-//Museozoom.be v2016//EN
BEGIN:VEVENT
STATUS:CONFIRMED
DTSTART:19700101
DTEND:20230305
SUMMARY:Explor'action masquée au Musée des Celtes
DESCRIPTION:Dinosaures, pharaons, samouraïs et autres visiteurs inattendus se sont faufilés dans le Musée de Libramont. Nous avons besoin de toi pour les débusquer. À partir d’un carnet de jeux exclusivement conçu pour l’occasion, partez en famille à la chasse aux intrus et aidez les Celtes à retrouver leur place méritée au Musée.Rejoins-nous, sans réservation, à tout moment, du samedi 18 février au dimanche 5 mars 2023.Date : du 18 février au 5 mars,Horaires : de 9h30 à 16h du lundi au samedi, de 14h à 17h30 le dimancheTarifs : Compris dans le prix d’entrée : 5 €/adulte ; 2 €/enfant (6 à 12 ans); gratuit pour les moins de 6 ans et gratuit le premier dimanche de chaque mois.Réservation pas nécessaire
LOCATION:Place Communale 76800 Libramont-Chevigny
END:VEVENT
END:VCALENDAR