


BEGIN:VCALENDAR
VERSION:2.0
PRODID:-//Museozoom.be v2016//EN
BEGIN:VEVENT
STATUS:CONFIRMED
DTSTART:19700101
DTEND:19700101
SUMMARY:Stage d'été "Nature et livres"
DESCRIPTION:Tu aimes le livre et l’art ? Alors ce stage est fait pour toi ! Pendant une semaine, laisse libre cours à ta créativité et à ton imagination. Inspirés par les collections du musée et les livres de la bibliothèque, viens explorer le thème de la nature : animaux, paysages, saisons… se dévoileront. Exposition et présentation de nos découvertes sont prévues en fin de stage.Pour les enfants de 6 à 9 ans. En collaboration avec la bibliothèque publique d&rsquo;Ottignies &#8211; Louvain-la-Neuve.Date : du 21 au 25 août 2023Horaire : de 9h30 à 16h30Prix : 110€Réservation obligatoire via l&rsquo;adresse mail info@museel.be ou au 010/47 48 41
LOCATION:Place des Sciences, 31348 Louvain-la-Neuve
END:VEVENT
END:VCALENDAR