


BEGIN:VCALENDAR
VERSION:2.0
PRODID:-//Museozoom.be v2016//EN
BEGIN:VEVENT
STATUS:CONFIRMED
DTSTART:19700101
DTEND:19700101
SUMMARY:Fabulivre - Week-end d'exploration autour du livre à Mariemont
DESCRIPTION:Les 22 et 23 avril, Mariemont accueille la première édition de « FABULIVRE, fête et laboratoire du livre ». Organisé par l’Atelier du Livre ainsi que le Domaine &amp; Musée royal de Mariemont, ce week-end d’activités invite à venir interroger le livre, mais aussi les mots et les images. Entre promenades, rencontres et ateliers, FABULIVRE appelle à venir se perdre dans la magie des feuilles.Des pôles pour tous les goûts  Accessible à tous les publics, la manifestation fait partir à la découverte de ceux qui sont derrière les livres. De A à Z, des professionnels partagent leur métier, leurs techniques et leurs réflexions. L’occasion d’échanger mais aussi de mettre ces pratiques en action !Plusieurs pôles et espaces sont proposés :des ateliers : 7 types d’ateliers sont disponibles pour découvrir la reliure, la gravure, le dessin, la conversation et l’écriture. Ceux-ci se vivent accompagnés ou en autonomie ;une « grande librairie »: une salle complète du Musée remplie de livres invite à la lecture et à la découverte de maisons d’édition essentiellement belges et indépendantes. Un espace achat permet de repartir avec son coup de cœur ;des promenades: au cœur du Musée ou dans les allées du parc, des balades offrent l’occasion de flâner d’une vitrine à une boite à livres, ou d’entamer un parcours à la poursuite des mots ;des rencontres: des créateurs (auteurs, illustrateurs, designers du livre…) sont présents pour mener des discussions ouvertes, pour emporter lors de lecture ou d’histoires racontées ;des cabanes: lieu par excellence où l’imaginaire s’enflamme, les cabanes construites à Mariemont accueillent et proposent des thématiques de réflexion tel que l’abri, le regard vers l’extérieur, l’écoute…certaines curiosités restent à découvrir sur place ;Infos pratiquesFABULIVRE est ouvert à tous les âges, aux curieux comme aux plus passionnés.Date : 22 et 23 avril 2023Horaire : samedi de 10h à 19h – dimanche de 10h à 18hLieu : Domaine &amp; Musée royal de Mariemont, 100 chaussée de Mariemont, 7140 Morlanwelz. Le Domaine est piétonnier &#8211; Parking gratuit dans la Drève de MariemontPrix : l’événement est accessible gratuitement ! Achats possibles en boutique &amp; grande librairieLien vers le programme : www.musee-mariemont.be
LOCATION:Chaussée de Mariemont, 1007140 Morlanwelz
END:VEVENT
END:VCALENDAR