


BEGIN:VCALENDAR
VERSION:2.0
PRODID:-//Museozoom.be v2016//EN
BEGIN:VEVENT
STATUS:CONFIRMED
DTSTART:20230502
DTEND:20230512
SUMMARY:Graines de curieux - Musée de la Banque nationale
DESCRIPTION:Le printemps pointe le bout de son nez à la campagne. Victor le cochon-tirelire reçoit une grande visite en ce jour de fête. Son meilleur ami, le lapin de Pâques, est de passage ! L’heure du grand nettoyage de printemps est arrivée ! Viens aider le petit cochon-tirelire à remettre sa ferme à neuf et complète les différentes missions. Au fil de ton aventure au Musée de la Banque nationale, tu feras la rencontre de chouettes animaux ! Prêt à aider Victor le cochon-tirelire ?Date : du mardi 2 mai au vendredi 12 mai (fermé le lundi 1er mai !)Horaire : du lundi au vendredi, de 9h à 17hTarifs : activité gratuiteRéservation non nécessaireAutre(s) info(s) : activité familiale avec deux niveaux de jeu (4-6 ans et 7-12 ans). Pas adapté pour les groupes d’enfants.
LOCATION:Rue Montagne aux Herbes Potagères, 571000 Bruxelles
END:VEVENT
END:VCALENDAR