


BEGIN:VCALENDAR
VERSION:2.0
PRODID:-//Museozoom.be v2016//EN
BEGIN:VEVENT
STATUS:CONFIRMED
DTSTART:20230502
DTEND:20230505
SUMMARY:Stage de printemps au Musée royal de Mariemont
DESCRIPTION:Stage-Atelier « Animaux ! »Animaux des villes, animaux des champs, animaux des parcs, animaux de musée, tant de variété !Animaux réels, animaux inventés, animaux composés, animaux rêvés, tant de possibilités!Observation poussée, techniques révélées, créativité libérée!C&rsquo;est parti!Date : Du mardi 2 au vendredi 5 maiHoraire : De 10h à 16hTarifs : 60€ pour les 4 joursRéservation obligatoire : mediation@mariemont.be &#8211; +32 (0)64 27 37 84Autre(s) info(s) : pour enfants entre 6 et 12 ans
LOCATION:Chaussée de Mariemont, 1007140 Morlanwelz
END:VEVENT
END:VCALENDAR