


BEGIN:VCALENDAR
VERSION:2.0
PRODID:-//Museozoom.be v2016//EN
BEGIN:VEVENT
STATUS:CONFIRMED
DTSTART:20230603
DTEND:20230604
SUMMARY:Contes au musée - Train World
DESCRIPTION:VOYAGE, VOYAGEUne balade contée pour grands et petits avec la conteuse Luisa Bevilacqua/Cie Kookaburra dans le cadre du projet « Contes au musée » initié par la Fédérations des Conteurs professionnels.Prendre le train, partir vers d’autres horizons, voyager, s’émerveiller et rêver. C’est ce que vous propose Luisa Bevilacqua dans le superbe contexte de Train World et de son actuelle exposition « Animalia. Chemins de vie, chemins de fer ». Nord, sud, est, ouest : qui sait quelle direction ce voyage commun prendra ? Pour le découvrir, embarquez-vous dans cette balade contée destinée à vous faire traverser le monde dans sa magnifique diversité.Quand : Samedi 3 juin à 14h et Dimanche 4 juin à 11h et 14hDurée : 1hPublic : tout public, àpd 6 ansPlus d&rsquo;infos : https://www.trainworld.be/fr/contes-au-musee
LOCATION:Place Princesse Elisabeth 51030 Schaerbeek
END:VEVENT
END:VCALENDAR