


BEGIN:VCALENDAR
VERSION:2.0
PRODID:-//Museozoom.be v2016//EN
BEGIN:VEVENT
STATUS:CONFIRMED
DTSTART:20230701
DTEND:19700101
SUMMARY:Escale à l'Espace gallo-romain
DESCRIPTION:Rendez-vous à l’Espace gallo-romain d’Ath cet été pour tester les jeux romains.Partez en famille et en toute indépendance à la découverte des jeux gallo-romains ! Stratégie, amusement, rire et réflexion sont au programme.Dates : tout l’étéHoraire : Ouvert du mardi au vendredi de 10h à 12h et de 13h à 17h. Week-ends et jours fériés de 14h à 18h.Tarifs d’entrée du musée : 6€ pour les adultes et 4€ pour les enfants/étudiants (de 3 à 24 ans)Réservation non obligatoireAutre(s) info(s) : D’autres activités en indépendance sont possibles pour les familles : carnet de visite sur les animaux, labo-archéos et sac Marmaille&amp;Co. 
LOCATION:Rue de Nazareth 27800 Ath
END:VEVENT
END:VCALENDAR