


BEGIN:VCALENDAR
VERSION:2.0
PRODID:-//Museozoom.be v2016//EN
BEGIN:VEVENT
STATUS:CONFIRMED
DTSTART:19700101
DTEND:20230811
SUMMARY:Stages d'été au MACS
DESCRIPTION:Stage de peintureAccompagné d&rsquo;un artiste peintre, acquiers et expérimente différentes techniques picturales.Dates : du 24 au 28 juillet 2023Horaire : de 9 à 16hTarifs : 80 € (collations incluses. Repas de midi à prévoir)Réservation obligatoire : reservations@grand-hornu.be +32(0)65 613 902Pour les enfants de 9 à 12 ans&nbsp;Stage : Un monde à peindreDurant une semaine, découvre l&rsquo;univers d&rsquo;Angel Vergara, peintre de l&rsquo;instant. Observe et représente le monde qui t&rsquo;entoure en expérimentant différentes techniques picturales.Dates : du 7 au 11 août 202Horaire : de 9 à 16hTarifs : 80 € (collations incluses. Repas de midi à prévoir)Réservation obligatoire : reservations@grand-hornu.be +32(0)65 613 902Pour les enfants de 5 à 8 ans&nbsp;
LOCATION:Rue Sainte-Louise 827301 Hornu
END:VEVENT
END:VCALENDAR