


BEGIN:VCALENDAR
VERSION:2.0
PRODID:-//Museozoom.be v2016//EN
BEGIN:VEVENT
STATUS:CONFIRMED
DTSTART:19700101
DTEND:19700101
SUMMARY:Stage d'été à la Maison de la Métallurgie et de l'Industrie
DESCRIPTION:Tu as entre 6 et 10 ans et tu as envie de faire le plein de découvertes et d&rsquo;amusement ? Viens à la Fabrik, le stage organisé par la MMIL.Au programme : des activités créatives et éducatives, des promenades, des découvertes inattendues&#8230; et le montage d’une exposition dont tu seras le héros ou l’héroïne !Un programme riche et varié, avec notamment :Une découverte inédite contée de l’ancienne forgeUne promenade ludique pour découvrir les quartiers du Longdoz et des VennesDes activités artistiquesUne chasse aux trésorsDes ateliers coopératifsEt des tas d’autres surprises !&nbsp;Quand ? du lundi 24 au vendredi 28 juilletOù ? à la Maison de la Métallurgie et de l’Industrie de Liège, Boulevard Poincaré, 4020 LiègeHoraire :  de 09h à 16h15 (garderies de 8h à 9h et de 16h15 à 17h15)Envie de plus d&rsquo;informations ? Contactez Xavier ou Maëlle au 04 342 65 63Prix  : 65 €Réservation obligatoire au 04 342 65 63 ou via info@mmil.beLe programme complet est disponible sur demande au 04 342 65 63 ou via info@mmil.bePour obtenir le document d&rsquo;inscription et la fiche signalétique à compléter, contactez Maëlle ou Xavier
LOCATION:Boulevard Raymond Poincaré 174020 Liège
END:VEVENT
END:VCALENDAR