


BEGIN:VCALENDAR
VERSION:2.0
PRODID:-//Museozoom.be v2016//EN
BEGIN:VEVENT
STATUS:CONFIRMED
DTSTART:20230702
DTEND:19700101
SUMMARY:Escale au musée Rops
DESCRIPTION:Escale en famille au musée Rops !Non, Félicien Rops n&rsquo;est pas uniquement un artiste sulfureux ! Son esprit rebelle et malicieux, son regard tantôt amusé, tantôt moqueur, tantôt révolté sur son époque font de lui un personnage drôle et attachant ! Des petits aux ados, les gravures, dessins et peintures de Rops nourriront certainement des discussions autour de l&rsquo;époque de Rops et les difficultés à être artiste quand on a un esprit libre&#8230; À partager en famille ! Passez ensemble un chouette moment de découverte à travers une visite guidée  ludique et interactive, et pour pouvoir poursuivre la rencontre avec Fély à la maison, les enfants recevront en bonus le guide du petit visiteur !Dates : 02/07/2023Horaire : 10h30-12h00Tarif : (uniquement pour l’activité famille) : gratuit &lt; 12 ans, activité comprise dans le billet d’entrée pour les 13 ans et +Réservation obligatoire par mail ou par téléphone (081 77 67 55, info@museerops.be)Autre(s) info(s) : l’activité s’adresse en priorité aux enfants de 8-12 ans
LOCATION:Rue Fumal 125000 Namur
END:VEVENT
END:VCALENDAR