


BEGIN:VCALENDAR
VERSION:2.0
PRODID:-//Museozoom.be v2016//EN
BEGIN:VEVENT
STATUS:CONFIRMED
DTSTART:19700101
DTEND:20240306
SUMMARY:Ateliers créatifs au Mundaneum
DESCRIPTION:Atelier d’initiation au carnet reliéAs-tu déjà entendu parler des reliures japonaises ? Le Mundaneum te propose un atelier d’initiation à la reliure pour repartir avec ton propre carnet dans lequel tu pourras y rédiger tes nombreux souhaits, tes idées les plus farfelues, tes rêves les plus grands !Durant cet atelier intergénérationnel, adultes et enfants seront réunis pour passer un chouette moment de découvertes et de créations ensemble. Matériel fourni.Quand ? Le 28 février 2024, de 14h à 16h.Combien ? Adulte : 7€, enfant : 5€ (droit d’entrée au musée inclus).Âge ? A partir de 7 ans.Réservation ? Réservation obligatoire.&nbsp;Atelier d’initiation Origami – boite à souvenirAs-tu une boite dans laquelle tu mets tes plus précieux souvenirs ? Le Mundaneum t’invite à apprendre à en fabriquer toi-même et à les customiser à ton goût.Durant cet atelier intergénérationnel, adultes et enfants seront réunis pour passer un chouette moment de découvertes et de créations ensemble. Matériel fourni.Quand ? Le 6 mars 2024, de 14h à 16h.Combien ? Adulte : 7€, enfant : 5€ (droit d’entrée au musée inclus).Âge ? A partir de 7 ans.Réservation ? Réservation obligatoire (https://www.mundaneumshop.org/ticketing).
LOCATION:76 rue de Nimy7000 Mons
END:VEVENT
END:VCALENDAR