


BEGIN:VCALENDAR
VERSION:2.0
PRODID:-//Museozoom.be v2016//EN
BEGIN:VEVENT
STATUS:CONFIRMED
DTSTART:19700101
DTEND:19700101
SUMMARY:Ateliers artisanat à l'Ecomusée du Viroin
DESCRIPTION:Viens t’a(musées) &#8211; Chassons l’hiverLes congés approchent à grand pas. C’est l’occasion pour toi de partager des moments fun avec tes proches autour d’activités cette fois&#8230; dédiées aux saisons ! Eh oui, le temps est venu de chasser l’hiver pour laisser place aux douceurs du printemps. Le soleil a besoin d’un coup de pouce pour pointer le bout de son nez ! Alors viens nous aider ! Au rendez-vous : préparation de crêpes sur des mini cuisinières pour lui rappeler sa jolie forme ronde, feutrage de la laine aux couleurs chaudes pour lui rappeler son pouvoir unique et personnalisation d’un porte clé en cuir pour l’inviter à faire revivre la nature !Le mardi 27 février, atelier de feutrage de laine aux couleurs chaudes pour attirer le soleil.Le mercredi 28 février, atelier cuisine miniature &#8211; nom d’une crêpe !Le jeudi 29 février, création de porte clé en cuir personnalisé , thème nature !Quand ? Du 27 au 29 février 2024, de 14h à 15h30.Combien ? 5€ par personne.Âge ? Pour toute la famille.Réservation ? Souhaitée.
LOCATION:Rue Eugène Defraire 635670 Treignes
END:VEVENT
END:VCALENDAR