


BEGIN:VCALENDAR
VERSION:2.0
PRODID:-//Museozoom.be v2016//EN
BEGIN:VEVENT
STATUS:CONFIRMED
DTSTART:19700101
DTEND:20240412
SUMMARY:Chasse aux Schtroumpfs
DESCRIPTION:Retrouve les Schtroumpfs cachés entre les trains du musée et participe à notre jeu concours pour peut-être en rapporter un à la maison !Date : Du 31 mars au 12 avril, de 10h à 17h (dernière entrée 15h30)Tarifs : Gratuit à l’achat du ticket d’entréeÂge : Pour toute la famille
LOCATION:Place Princesse Elisabeth 51030 Schaerbeek
END:VEVENT
END:VCALENDAR