


BEGIN:VCALENDAR
VERSION:2.0
PRODID:-//Museozoom.be v2016//EN
BEGIN:VEVENT
STATUS:CONFIRMED
DTSTART:20240302
DTEND:19700101
SUMMARY:Nuit au Computer Nam-Ip
DESCRIPTION:Plusieurs héros de jeux vidéo ont disparu ! Pars à leur recherche avec une lampe de poche et reçois une récompense !Date : 2 mars, de 17h à 20h (dernière entrée à 19h)Tarifs : 6€ par personneRéservation souhaitéeÂge : à partir de 5 ansApport d’une lampe de poche souhaité
LOCATION:rue Henri Blès 192a5000 Namur
END:VEVENT
END:VCALENDAR