


BEGIN:VCALENDAR
VERSION:2.0
PRODID:-//Museozoom.be v2016//EN
BEGIN:VEVENT
STATUS:CONFIRMED
DTSTART:20240506
DTEND:20240508
SUMMARY:A la découverte de l'eau au Musée de l'eau et de la Fontaine
DESCRIPTION:Durant les congés de printemps, le MEF te propose un voyage rempli de mystère…Du Sahara à la Belgique, il n’y a qu’un pas. Traverse le désert, découvre ses habitants et suis la trace de l’eau… jusqu’où te mènera-t-elle ? En famille, combats la désertification et apprend les bons gestes pour sauvegarder la biodiversité !Date : Du 6 au 8 maiHoraire : Départ toutes les 30 minutes (groupe max. 10 personnes) à 10h00, 10h30, 11h00, 13h00, 13h30 et 14h00Tarifs : 8 euros par participantRéservation obligatoireA partir de 5 ans
LOCATION:Allée du Bois des Rêves 1, 1340 Ottignies
END:VEVENT
END:VCALENDAR