


BEGIN:VCALENDAR
VERSION:2.0
PRODID:-//Museozoom.be v2016//EN
BEGIN:VEVENT
STATUS:CONFIRMED
DTSTART:20240506
DTEND:20240510
SUMMARY:Stage "bande dessinée" à Train World
DESCRIPTION:Viens découvrir ce qu&rsquo;est une planche de BD, une ellipse, des bulles, des onomatopées&#8230; et apprends à créer une bande dessinée comme un vrai professionnel !Date : du 6 au 10 mai : La Bande dessinée et les trainsHoraire : 9h-16h. Garderie possible dès 8h et jusque 17h.Tarifs : 90€ pour les Schaerbeekois, 120€ pour les non-SchaerbeekoisRéservation obligatoire (cfr notre site internet)Pour les enfants de 10 à 14 ans
LOCATION:Place Princesse Elisabeth 51030 Schaerbeek
END:VEVENT
END:VCALENDAR