


BEGIN:VCALENDAR
VERSION:2.0
PRODID:-//Museozoom.be v2016//EN
BEGIN:VEVENT
STATUS:CONFIRMED
DTSTART:19700101
DTEND:20240512
SUMMARY:Enigme au Musée du Marbre
DESCRIPTION:Une approche originale pour découvrir le musée. Une histoire insolite s’est déroulée dans le village au temps de l’exploitation marbrière, cette énigme n’a jamais été résolue. Aujourd’hui, grâce à la découverte d’un vieil article de presse, on vous propose de résoudre l’enquête. Une activité à faire en famille.Date :  du 27 avril au 12 maiHoraire : durant les heures d’ouverture habituelles du musée voir www.museedumarbre.comTarifs : l’activité est comprise dans le prix d’entrée habituelRéservation Pas de réservationA partir de 9 ans
LOCATION:Grand rue 226470 Rance
END:VEVENT
END:VCALENDAR