


BEGIN:VCALENDAR
VERSION:2.0
PRODID:-//Museozoom.be v2016//EN
BEGIN:VEVENT
STATUS:CONFIRMED
DTSTART:20240504
DTEND:19700101
SUMMARY:Découverte de la Maison des Légendes au Musée de la Grande Ardenne
DESCRIPTION:Es-tu partant(e) pour explorer les histoires passionnantes de nos légendes tout en rivalisant avec tes amis autour d&rsquo;une table de jeu ?Prends ta pioche pour déterrer des trésors au fond des grottes de nutons, deviens le loup-garou qui terrifie les villageois et bats-toi vaillamment pour défendre ton honneur de chevalier !Viens (re)découvrir notre Maison des Légendes comme tu ne l’a encore jamais vue…Date : Samedi 4 mai 2024Horaire : de 14h à 16h30Tarifs : 6€ enfant/étudiant/senior/PMR et 9€/adulteRéservation obligatoire : réservation obligatoire pour le mercredi 1er mai au plus tardConseillé à partir de 8 ans
LOCATION:Place en Piconrue, 26600 Bastogne
END:VEVENT
END:VCALENDAR