


BEGIN:VCALENDAR
VERSION:2.0
PRODID:-//Museozoom.be v2016//EN
BEGIN:VEVENT
STATUS:CONFIRMED
DTSTART:20240505
DTEND:20240901
SUMMARY:Exposition "Inventions de la Préhistoire"
DESCRIPTION:Une expo interactive conçue en priorité pour les enfants, avec la collaboration de la Fédération Wallonie Bruxelles, service du Museobus !Pour toute information : 019/51.96.82 ou 0479/75.70.31 ou musee.archeo@brabantwallon.be        
LOCATION:Rue A. Dewolf 21357 Hélécine
END:VEVENT
END:VCALENDAR