


BEGIN:VCALENDAR
VERSION:2.0
PRODID:-//Museozoom.be v2016//EN
BEGIN:VEVENT
STATUS:CONFIRMED
DTSTART:20240601
DTEND:20240602
SUMMARY:Reconstitutions napoléoniennes au Musée Ligny
DESCRIPTION:Les Napoléoniennes, bataille de Ligny 1815 &#8211; 1 &amp; 2 juin 2024Des passionnés, des musiciens, des artisans, des décors pour une approche authentique et vivante de l’histoire.Le Ligny1815Museum et Visit Sombreffe organisent les reconstitutions historiques &#8211; Napoléoniennes commémorant la bataille de Ligny en 1815.Plus de 500 reconstitueurs seront installés dans et aux alentours de la ferme du Ligny1815Museum, les samedi 1er et dimanche 2 juin à Ligny en Province de Namur.Au programme : bivouac animé, mouvement de troupes, démonstration d’artillerie et de cavalerie, reconstitution de la bataille, village des artisans, animations historiques et musicales, bivouac des enfants et plein d’autres surprises !PAF en prévente et sur place : www.ligny1815.b&nbsp;
LOCATION:Rue Pont Piraux 235140 Ligny
END:VEVENT
END:VCALENDAR