


BEGIN:VCALENDAR
VERSION:2.0
PRODID:-//Museozoom.be v2016//EN
BEGIN:VEVENT
STATUS:CONFIRMED
DTSTART:19700101
DTEND:19700101
SUMMARY:Exposition « Ligne, rythme et mouvement »
DESCRIPTION:Depuis 2022, le Musée L est un opérateur thématique dans le cadre du Parcours d&rsquo;Education Artistique et Culturelle (PECA) encadré par la Fédération Wallonie-Bruxelles. Dans ce cadre, cette année le Musée L &#8211; Musée universitaire de Louvain , en partenariat avec l’asbl ArtSchool, a accueilli plus de 1000 enfants de l&rsquo;enseignement fondamental pour un projet de médiation culturelle et artistique sur le thème « Ligne, rythme et mouvement ».Au cours de ces activités, les élèves découvrent dans leur classe une sélection d’œuvres authentiques de différents artistes contemporains (belges et étrangers) reconnus internationalement. Ces réalisations sont à chaque fois mises en rapport avec des œuvres exposées au Musée L. Les élèves participent aussi à une visite active dans les collections permanentes du Musée L pour découvrir « en vrai » les œuvres du musée sur le thème « Ligne, rythme et mouvement ».Pour clôturer ce projet, les créations des élèves sont rassemblées et présentées lors d&rsquo;une exposition au Musée L dans laquelle réalisations des enfants sont exposées aux côtés des œuvres d’artistes contemporains prêtées à l’asbl ArtSchool et œuvres du musée.Intéressés ?Le vernissage a lieu ce jeudi 16 mai à partir de 17h30 (sur réservation avant le 8 mai https://museel.be/fr/form/inscription-vernissage-pecaL’exposition se tiendra du 17 mai au 23 juin, dans les horaires d’ouverture du musée.
LOCATION:Place des Sciences, 31348 Louvain-la-Neuve
END:VEVENT
END:VCALENDAR