


BEGIN:VCALENDAR
VERSION:2.0
PRODID:-//Museozoom.be v2016//EN
BEGIN:VEVENT
STATUS:CONFIRMED
DTSTART:20240708
DTEND:20240712
SUMMARY:Stage "Fabrique des couleurs" au Centre de la Gravure et de l'Image imprimée
DESCRIPTION:En t’inspirant de la nature, de ses pigments et des œuvres très colorées de Corneille réalise tes propres teintes et imprime ta gravure.Date : du 8 au 12 juilletHoraire : de 9h à 16h (garderie gratuite à partir de 8h30 et jusqu’à 16h30)Tarifs : 85 € (75 € pour le 2ème enfant d’une même famille).Réservation obligatoire : + 32 (0)64 27 87 27 / accueil@centredelagravure.frDe 6 à 12 ans
LOCATION:Rue des Amours 107100 La Louvière
END:VEVENT
END:VCALENDAR