


BEGIN:VCALENDAR
VERSION:2.0
PRODID:-//Museozoom.be v2016//EN
BEGIN:VEVENT
STATUS:CONFIRMED
DTSTART:19700101
DTEND:19700101
SUMMARY:Stage "Grand jeu" au Centre de la Gravure et de l'Image imprimée
DESCRIPTION:Inventons des jeux pour créer des images en s’amusant. Dessine les yeux fermés, en rythme, sur la feuille du voisin…Date : du 19 au 23 aoûtHoraire : de 9h à 16h (garderie gratuite à partir de 8h30 et jusqu’à 16h30)Tarifs : 85 € (75 € pour le 2ème enfant d’une même famille).Réservation obligatoire : accueil@centredelagravure.fr / + 32 (0)64 27 87 27De 6 à 12 ans
LOCATION:Rue des Amours 107100 La Louvière
END:VEVENT
END:VCALENDAR