


BEGIN:VCALENDAR
VERSION:2.0
PRODID:-//Museozoom.be v2016//EN
BEGIN:VEVENT
STATUS:CONFIRMED
DTSTART:19700101
DTEND:19700101
SUMMARY:Stage "Il était un monde..." au Musée du Carnaval et du Masque
DESCRIPTION:Cet été, donne vie à ton propre monde au Musée !De l&rsquo;invention des légendes de ton peuple à la sélection de son animal totem, en passant par la création d&rsquo;amulettes protectrices et la construction d&rsquo;une maquette 3D de ton monde, laisse libre cours à ton imagination.Sans oublier la découverte de l’exposition “Nam-Khas, le Peuple des Femmes Nuages”, une société himalayenne fictive conçue par l&rsquo;artiste-plasticienne Béatrice Meunier-Déry.Date : Du lundi 19 au vendredi 23 août 2024Horaire : De 9h à 16h (possibilité de garderie de 8h à 9h et de 16h à 17h)Tarifs : 100€Réservation obligatoire au 064 33 57 41 ou par mail : accueil@museedumasque.beDe 6 à 12 ans&nbsp;
LOCATION:Rue Saint Moustier 107130 Binche
END:VEVENT
END:VCALENDAR