


BEGIN:VCALENDAR
VERSION:2.0
PRODID:-//Museozoom.be v2016//EN
BEGIN:VEVENT
STATUS:CONFIRMED
DTSTART:20240707
DTEND:19700101
SUMMARY:Après-midi Jeux anciens au MUSEF
DESCRIPTION:Passez un agréable moment en famille ou entre amis dans le jardin de notre musée grâce à une vingtaine de jeux anciens, jeux d&rsquo;adresse, de patience, d&rsquo;équilibre et de hasard !Date : le dimanche 07 juillet 2024Horaire : de 14h à 18hTarifs : 2€/participantPas de réservation nécessaireA partir de 5 ans
LOCATION:Rue de la Station, 147700 Mouscron
END:VEVENT
END:VCALENDAR