


BEGIN:VCALENDAR
VERSION:2.0
PRODID:-//Museozoom.be v2016//EN
BEGIN:VEVENT
STATUS:CONFIRMED
DTSTART:20240811
DTEND:19700101
SUMMARY:Fête des jardins romains à Malagne-Archéoparc de Rochefort
DESCRIPTION:Ce 11 août 2024, de 10h à 18h, les magnifiques jardins et potager d’inspiration antique de notre villa, labellisés « jardins remarquables », seront une fois de plus mis à l’honneur !Découvrez les quelque 300 variétés de plantes du jardin mosaïque et du potager. Nos artisans, quant à eux, vous initieront à l’usage des plantes au cours de démonstrations d’artisanat.Venez gouter le pain aux herbes de notre boulanger, expérimentez la cuisine sauvage ou bien encore dégustez une délicieuse tisane du jardin…Assistez à une expérimentation archéologique unique dans le monde ; la moisson de l’épeautre grâce au vallus, la moissonneuse gallo-romaine ! Alors, prêts à encourager notre ânesse Capucine qui sera mise à l’ouvrage ?Rendez-vous le 11 août dans notre ferme gallo-romaine !Date : 11 août 2024Horaire : 10h -18hTarifs : 11 euros/adulte – 9 euros/enfant – 10 euros/seniorPas de réservation obligatoire, mais possible sur www.malagne.beAccessible à tous
LOCATION:Rue du Coirbois 855580 Rochefort
END:VEVENT
END:VCALENDAR