


BEGIN:VCALENDAR
VERSION:2.0
PRODID:-//Museozoom.be v2016//EN
BEGIN:VEVENT
STATUS:CONFIRMED
DTSTART:20240707
DTEND:19700101
SUMMARY:Ateliers sculpture au Musée de la Vie wallonne
DESCRIPTION:Après la découverte du parcours permanent à travers l’œuvre de Léopold Harzé, les enfants réalisent leur propre sculpture en argile. Une activité enrichissante et créative !Date : 7 et 21 juilletHoraire : de 10h30 à 12h30Tarif : 6 euros/participantRéservation obligatoireA partir de 6 ans&nbsp;
LOCATION:Cour des Mineurs4000 Liège
END:VEVENT
END:VCALENDAR