


BEGIN:VCALENDAR
VERSION:2.0
PRODID:-//Museozoom.be v2016//EN
BEGIN:VEVENT
STATUS:CONFIRMED
DTSTART:20240708
DTEND:20240712
SUMMARY:Stage "Mission zéro déchet" au Musée de la Vie wallonne
DESCRIPTION:Tu es créatif et soucieux de la planète ? Durant cette semaine, tu réaliseras, à partir d&rsquo;éléments trouvés dans la nature ou récupérés, des jouets, des objets de décoration et encore bien d&rsquo;autres choses. Un stage riche en apprentissage et en amusement !Dates : du 8 au 12 juilletHoraire : de 9h à 16hTarif : 60 eurosRéservation obligatoireDe 5 à 9 ansAutre(s) info(s) : garderie de 8h30 à 9h et de 16h à 17h
LOCATION:Cour des Mineurs4000 Liège
END:VEVENT
END:VCALENDAR