


BEGIN:VCALENDAR
VERSION:2.0
PRODID:-//Museozoom.be v2016//EN
BEGIN:VEVENT
STATUS:CONFIRMED
DTSTART:19700101
DTEND:19700101
SUMMARY:Exposition temporaire "Déesses et Hiercheuses" au Musée de la Mine et du Développement durable
DESCRIPTION:À travers une sélection soignée de photographies, d’objets personnels et de récits touchants, « Déesses et Hiercheuses » vise à mettre en lumière la vie de ces femmes dont le travail a constitué la colonne vertébrale de l’industrie moderne. Les portraits génères par intelligence artificielle servent de pont entre réalités tangibles et expressions artistiques, inspirées par les vies réelles et réinterprétées des étoiles de l’opéra et des femmes de la mine.Dates : du 26 avril au 29 septembreHoraire : du mardi au vendredi de 10h à 17h et le week-end de 10h à 18hTarifs : gratuit pour le -6 ans / 5€ pour les adultes / 3€ pour les -18 ans, étudiants, +60 ansPas de réservation nécessaireTous publics, enfants à partir de 5 ans
LOCATION:Rue Saint-Patrice 2b7110 Houdeng-Aimeries
END:VEVENT
END:VCALENDAR