


BEGIN:VCALENDAR
VERSION:2.0
PRODID:-//Museozoom.be v2016//EN
BEGIN:VEVENT
STATUS:CONFIRMED
DTSTART:19700101
DTEND:19700101
SUMMARY:Exposition : Folon photos graphiques
DESCRIPTION:On connaît l’artiste peintre, dessinateur, sculpteur, affichiste… Aujourd’hui, grâce aux archives et documents légués par la famille et restés jusqu’ici dans la sphère privée, la Fondation propose de découvrir le rapport de l’artiste à la photographie.Compagnon de route, l’objectif de Folon a capté dès les années 50 l’ambiance de la ville et les signes  emblématiques de son vocabulaire graphique : flèches, routes, visages, masques,… La photographie est omniprésente dans la construction de la pensée visuelle de l’artiste.250 clichés exposés ou projetés apportent un éclairage inédit sur la méthode et sur la cohérence du travail de Folon. L’exposition présente également des portraits de l’artiste au travail ou dans l’intimité de son quotidien, immortalisé par ses amis photographes.Infos pratiques : Visites guidées ? Le 27 mai à 13h et les 16 septembre, 21 octobre et 4 novembre à 14hInfos et réservations au info@fondationfolon.be
LOCATION:Drève de la Ramée 6A1310 La Hulpe
END:VEVENT
END:VCALENDAR