


BEGIN:VCALENDAR
VERSION:2.0
PRODID:-//Museozoom.be v2016//EN
BEGIN:VEVENT
STATUS:CONFIRMED
DTSTART:20180505
DTEND:20180902
SUMMARY:Exposition : Neandertal, l’Européen
DESCRIPTION:L’exposition « Neandertal, l’Européen » vous invite à la rencontre d’une humanité fascinante, auréolée de mythes, qui s’est éteinte vers 30.000 ans avant notre ère. Destinée à un large public, cette exposition tente de répondre aux nombreuses questions qui viennent à l’esprit à l’évocation du nom Neandertal.Comment était-il ?Quelles étaient ses différences par rapport à nous ?Comment vivait-il ?Quels étaient son environnement, son alimentation, son habitation ?Comment sait-on tout ce que nous savons sur cet homme aujourd’hui disparu ?Neandertal, l’Européen propose un bilan de ce que l’on sait et comment on le sait.Infos pratiques :Sur réservation : animation pour groupes par les animateurs archéologues du PréhistomuseumQuand ? du 5 mai au 2 septembre. Mardi au Dimanche de 10h à 17h ainsi que les lundis des vacances scolaires belgesCombien ? 8 eurosPlus d&rsquo;infos au :04 369 26 44 ou via musee@comblainaupont.be&nbsp;
LOCATION:Place Leblanc, 14170 Comblain-au-Pont
END:VEVENT
END:VCALENDAR