


BEGIN:VCALENDAR
VERSION:2.0
PRODID:-//Museozoom.be v2016//EN
BEGIN:VEVENT
STATUS:CONFIRMED
DTSTART:20180908
DTEND:20180909
SUMMARY:Journées du Patrimoine à La Boverie
DESCRIPTION:Les 8 et 9 septembre de 10h à 18hAnalyse de laboratoire et oeuvre d&rsquo;art à La BoverieLa compréhension d’œuvres d&rsquo;art fait appel à des techniques d&rsquo;analyse scientifique par imagerie. En ce sens, les musées de la Ville de Liège collaborent avec le Centre européen d&rsquo;Archéométrie (ULiège). A l&rsquo;occasion des journées du Patrimoine, les résultats des analyses de La Violoniste de Van Dongen seront présentés lors de visites guidées gratuites de 45 minutes (samedi et dimanche à 11h, 14h, 15h, et 16h). L&rsquo;accès aux collections permanentes du musée sera également gratuit pour tous.Le 9 septembre de 18h à 22hLes dessous de la Tour Cybernétique, en clôture des Journées du PatrimoineEn 1961, lorsque la VIlle de Liège décide d&rsquo;implanter une oeuvre de l&rsquo;artistes Nicolas Schöffer à côté de son nouveau Palais des Congrès, elle fait une opération de prestige destinée à lui donner une image de marque très caractéristique. Le père de l&rsquo;art cybernétiques, connu du monde entier, érige alors dans le parc de la Boverie une oeuvre visionnaire, d&rsquo;une exceptionnelle et intrigante originalité. Classée patrimoine exceptionnel de Wallonie, la Tour revit depuis 2016 grâce à une restauration soignée qui lui permet à nouveau de capter et de réagir à ses perceptions par des mouvements de pales, du son et de lumière.Venez découvrir ce patrimoine exceptionnel et insolite de la Ville de Liège ! Jeux et lumières en interaction avec la Tour cybernétique de 19h à 22h en accès libre. Démonstrations au pied de la tour, parc de la Boverie, et en face, sur l&rsquo;autre rive de la Meuse.Smartphones bienvenus pour interagir avec la tour. 
LOCATION:Parc de la Boverie 34020 Liège
END:VEVENT
END:VCALENDAR